BEGIN:VCALENDAR
VERSION:2.0
PRODID:-//Traveller - ECPv5.12.3//NONSGML v1.0//EN
CALSCALE:GREGORIAN
METHOD:PUBLISH
X-WR-CALNAME:Traveller
X-ORIGINAL-URL:https://dev.travellerccg.com
X-WR-CALDESC:Events for Traveller
BEGIN:VTIMEZONE
TZID:America/Los_Angeles
BEGIN:DAYLIGHT
TZOFFSETFROM:-0800
TZOFFSETTO:-0700
TZNAME:PDT
DTSTART:20180311T100000
END:DAYLIGHT
BEGIN:STANDARD
TZOFFSETFROM:-0700
TZOFFSETTO:-0800
TZNAME:PST
DTSTART:20181104T090000
END:STANDARD
END:VTIMEZONE
BEGIN:VEVENT
DTSTART;TZID=America/Los_Angeles:20180413T190000
DTEND;TZID=America/Los_Angeles:20180413T230000
DTSTAMP:20260421T124225
CREATED:20180318T232602Z
LAST-MODIFIED:20180318T233202Z
UID:1865-1523646000-1523660400@dev.travellerccg.com
SUMMARY:Traveller CCG Casual Play hosted by Frewfrux
DESCRIPTION:I attend a regular games night (second Friday of every month) and we can book the common room if there are going to be lots of people. Start time is flexible; anytime after 7 PM is fine. End time is also flexible; leave when you want but I tend to leave around 11 PM. \n  \nContact me on the forums or via email for more details\, including the address.
URL:https://dev.travellerccg.com/event/traveller-ccg-casual-play-hosted-frewfrux/
LOCATION:Langley\, British Columbia\, Langley\, British Columbia\, Canada
CATEGORIES:Casual Play
ORGANIZER;CN="Frewfrux":MAILTO:stubbydendrites@darylsbrain.com
END:VEVENT
END:VCALENDAR