BEGIN:VCALENDAR
VERSION:2.0
PRODID:-//Traveller - ECPv5.12.3//NONSGML v1.0//EN
CALSCALE:GREGORIAN
METHOD:PUBLISH
X-WR-CALNAME:Traveller
X-ORIGINAL-URL:https://dev.travellerccg.com
X-WR-CALDESC:Events for Traveller
BEGIN:VTIMEZONE
TZID:America/Los_Angeles
BEGIN:DAYLIGHT
TZOFFSETFROM:-0800
TZOFFSETTO:-0700
TZNAME:PDT
DTSTART:20180311T100000
END:DAYLIGHT
BEGIN:STANDARD
TZOFFSETFROM:-0700
TZOFFSETTO:-0800
TZNAME:PST
DTSTART:20181104T090000
END:STANDARD
END:VTIMEZONE
BEGIN:VEVENT
DTSTART;TZID=America/Los_Angeles:20180901T130000
DTEND;TZID=America/Los_Angeles:20180901T190000
DTSTAMP:20260421T105544
CREATED:20180813T162731Z
LAST-MODIFIED:20180813T162731Z
UID:1920-1535806800-1535828400@dev.travellerccg.com
SUMMARY:Pacificon Game Expo Demo
DESCRIPTION:Learn to play the Traveller CCG: \nA card game with trade\, exploration and combat in Marc Miller’s classic RPG setting\, The Third Imperium. Traveller is a card game adaptation of Marc Miller’s classic Science-Fiction role-playing game. Players assume the role of ship Captains plying the mains of the Third Imperium.
URL:https://dev.travellerccg.com/event/pacificon-game-expo-demo/
LOCATION:Pacificon\, 2700 Mission College Blvd\, Santa Clara\, CA\, 95054\, United States
CATEGORIES:Casual Play,Demo
ATTACH;FMTTYPE=image/png:https://dev.travellerccg.com/wp-content/uploads/2018/02/ConQuest-Logo-w-transperancy-274x300-e1519426916347.png
ORGANIZER;CN="Horizon%20Games":MAILTO:contact@travellerccg.com
END:VEVENT
END:VCALENDAR